Workbook

Sheet 3 Statement
C2: ="Financial Statement Model for "&D5 -> Financial Statement Model for X | K2: Jourdan Partners
C3: in CHF
C5: Company name | D5: X
C6: Latest fiscal year end date | D6: 46273
C8: INCOME STATEMENT
C9: Fiscal year | D9: =E9-1 -> 2024 | E9: =F9-1 -> 2025 | F9: =YEAR(D6) -> 2026 | G9: =F9+1 -> 2027 | H9: =G9+1 -> 2028 | I9: =H9+1 -> 2029 | J9: =I9+1 -> 2030 | K9: =J9+1 -> 2031
C10: Fiscal year end date | D10: =EOMONTH(E10,-12) -> 45565 | E10: =EOMONTH(F10,-12) -> 45930 | F10: =D6 -> 46273 | G10: =EOMONTH(F10,12) -> 46660 | H10: =EOMONTH(G10,12) -> 47026 | I10: =EOMONTH(H10,12) -> 47391 | J10: =EOMONTH(I10,12) -> 47756 | K10: =EOMONTH(J10,12) -> 48121
C12: Revenue | D12: 118000 | E12: =145500 -> 145500 | F12: 185210 | G12: =Scenario!F10 -> 226706 | H12: =Scenario!G10 -> 277594.74 | I12: =Scenario!H10 -> 340023.07 | J12: =Scenario!I10 -> 416633.33 | K12: =Scenario!J10 -> 510678.86
C13: Cost of sales | D13: =-(55000+6000+7500) -> -68500 | E13: =(62000+6200+8200)*-1 -> -76400 | F13: =(70000+6500+9000)*-1 -> -85500 | G13: =Scenario!F13 -> -101351.12 | H13: =Scenario!G13 -> -116481.74 | I13: =Scenario!H13 -> -119507.87 | J13: =Scenario!I13 -> -122533.99 | K13: =Scenario!J13 -> -125560.11
C14: Gross Profit | D14: =D12+D13 -> 49500 | E14: =E12+E13 -> 69100 | F14: =F12+F13 -> 99710 | G14: =G12+G13 -> 125354.88 | H14: =H12+H13 -> 161113 | I14: =I12+I13 -> 220515.21 | J14: =J12+J13 -> 294099.35 | K14: =K12+K13 -> 385118.75
C15: Research & development | D15: =(4000)*-1 -> -4000 | E15: =(5000)*-1 -> -5000 | F15: =(6000)*-1 -> -6000 | G15: =Scenario!F12 -> -7112.3596 | H15: =Scenario!G12 -> -8174.1573 | I15: =Scenario!H12 -> -8386.5169 | J15: =Scenario!I12 -> -8598.8764 | K15: =Scenario!J12 -> -8811.236
C16: Selling, general & administrative | D16: =(3500+24000)*-1 -> -27500 | E16: =(3500+24500)*-1 -> -28000 | F16: =(25000+3500)*-1 -> -28500 | G16: =Scenario!F11 -> -33783.708 | H16: =Scenario!G11 -> -38827.247 | I16: =Scenario!H11 -> -39835.955 | J16: =Scenario!I11 -> -40844.663 | K16: =Scenario!J11 -> -41853.371
C17: Operating profit (EBIT) | D17: =D14+D15+D16 -> 18000 | E17: =E14+E15+E16 -> 36100 | F17: =F14+F15+F16 -> 65210 | G17: =G14+G15+G16 -> 84458.809 | H17: =H14+H15+H16 -> 114111.59 | I17: =I14+I15+I16 -> 172292.73 | J17: =J14+J15+J16 -> 244655.81 | K17: =K14+K15+K16 -> 334454.15
C18: Interest expense | D18: =(1200)*-1 -> -1200 | E18: =(900)*-1 -> -900 | F18: =(400)*-1 -> -400 | G18: =F18 -> -400 | H18: =G18 -> -400 | I18: =H18 -> -400 | J18: =I18 -> -400 | K18: =J18 -> -400 | N18: Assumption: Straight Line
C19: Pretax profit | D19: =SUM(D17:D18) -> 16800 | E19: =SUM(E17:E18) -> 35200 | F19: =SUM(F17:F18) -> 64810 | G19: =SUM(G17:G18) -> 84058.809 | H19: =SUM(H17:H18) -> 113711.59 | I19: =SUM(I17:I18) -> 171892.73 | J19: =SUM(J17:J18) -> 244255.81 | K19: =SUM(K17:K18) -> 334054.15
C20: Taxes | D20: -1360.8 | E20: -2851.2 | F20: -4665.6 | G20: =(G19*G31)*-1 -> -6051.3004 | H20: =(H19*H31)*-1 -> -8185.9714 | I20: =(I19*I31)*-1 -> -12374.367 | J20: =(J19*J31)*-1 -> -17583.705 | K20: =(K19*K31)*-1 -> -24048.187
C21: Net income | D21: =D19+D20 -> 15439.2 | E21: =E19+E20 -> 32348.8 | F21: =F19+F20 -> 60144.4 | G21: =G19+G20 -> 78007.509 | H21: =H19+H20 -> 105525.62 | I21: =I19+I20 -> 159518.37 | J21: =J19+J20 -> 226672.1 | K21: =K19+K20 -> 310005.96
C23: Depreciation & amortization | D23: 5000 | E23: 4500 | F23: 4000 | G23: =F23*(1+G27) -> 4896.1935 | H23: =G23*(1+H27) -> 5995.243 | I23: =H23*(1+I27) -> 7343.5143 | J23: =I23*(1+J27) -> 8998.0743 | K23: =J23*(1+K27) -> 11029.186
C24: EBITDA | D24: =D17+D23 -> 23000 | E24: =E17+E23 -> 40600 | F24: =F17+F23 -> 69210 | G24: =G17+G23 -> 89355.002 | H24: =H17+H23 -> 120106.83 | I24: =I17+I23 -> 179636.25 | J24: =J17+J23 -> 253653.88 | K24: =K17+K23 -> 345483.33
C26: Growth rates & margins
C27: Revenue growth | E27: =E12/D12-1 -> 0.23305085 | F27: =F12/E12-1 -> 0.27292096 | G27: =G12/F12-1 -> 0.22404838 | H27: =H12/G12-1 -> 0.22447019 | I27: =I12/H12-1 -> 0.22489019 | J27: =J12/I12-1 -> 0.22530902 | K27: =K12/J12-1 -> 0.22572733
C28: Gross profit margin | D28: =D14/D12 -> 0.41949153 | E28: =E14/E12 -> 0.47491409 | F28: =F14/F12 -> 0.53836186 | G28: =G14/G12 -> 0.55294027 | H28: =H14/H12 -> 0.58038923 | I28: =I14/I12 -> 0.64853013 | J28: =J14/J12 -> 0.7058949 | K28: =K14/K12 -> 0.75413098 | N28: Assumption: As the company is expected to benefit from economies of scale, cost of sales is assumed to grow at a slower rate than revenue.
C29: R&D % of sales | D29: =(D15/D12)*-1 -> 0.033898305 | E29: =(E15/E12)*-1 -> 0.034364261 | F29: =(F15/F12)*-1 -> 0.032395659 | G29: =(G15/G12)*-1 -> 0.031372613 | H29: =(H15/H12)*-1 -> 0.02944637 | I29: =(I15/I12)*-1 -> 0.024664552 | J29: =(J15/J12)*-1 -> 0.020638954 | K29: =(K15/K12)*-1 -> 0.017253966 | N29: As the company is not expected to significantly increase its development spending, R&D is assumed to grow at a slower rate than revenue.
C30: SG&A % of sales | D30: =(D16/D12)*-1 -> 0.23305085 | E30: =(E16/E12)*-1 -> 0.19243986 | F30: =(F16/F12)*-1 -> 0.15387938 | G30: =(G16/G12)*-1 -> 0.14901991 | H30: =(H16/H12)*-1 -> 0.13987026 | I30: =(I16/I12)*-1 -> 0.11715662 | J30: =(J16/J12)*-1 -> 0.098035033 | K30: =(K16/K12)*-1 -> 0.08195634 | N30: Assumption: As operational efficiency improves, SG&A grows at a slower rate than revenue.
C31: Tax rate | D31: =-1*D20/D19 -> 0.081 | E31: =-1*E20/E19 -> 0.081 | F31: =-1*F20/F19 -> 0.071988891 | G31: =F31 -> 0.071988891 | H31: =G31 -> 0.071988891 | I31: =H31 -> 0.071988891 | J31: =I31 -> 0.071988891 | K31: =J31 -> 0.071988891 | N31: Assumption: Straight Line
C33: BALANCE SHEET
C34: =C9 -> Fiscal year | E34: =E9 -> 2025 | F34: =F9 -> 2026 | G34: =G9 -> 2027 | H34: =H9 -> 2028 | I34: =I9 -> 2029 | J34: =J9 -> 2030 | K34: =K9 -> 2031
C35: =C10 -> Fiscal year end date | E35: =E10 -> 45930 | F35: =F10 -> 46273 | G35: =G10 -> 46660 | H35: =H10 -> 47026 | I35: =I10 -> 47391 | J35: =J10 -> 47756 | K35: =K10 -> 48121
C36: Cash & equivalents, ST and LT marketable securities | E36: 9200 | F36: 14000 | G36: =F36+G66 -> 81938.045 | H36: =G36+H66 -> 175167.13 | I36: =H36+I66 -> 319689.44 | J36: =I36+J66 -> 528054.47 | K36: =J36+K66 -> 815688.24
C37: Accounts receivable | E37: 600 | F37: 900 | G37: =F37*(G27+1) -> 1101.6435 | H37: =G37*(H27+1) -> 1348.9297 | I37: =H37*(I27+1) -> 1652.2907 | J37: =I37*(J27+1) -> 2024.5667 | K37: =J37*(K27+1) -> 2481.5668
C38: Inventories | E38: 2200 | F38: 3000 | G38: =F38*(1+G30) -> 3447.0597 | H38: =G38*(1+H30) -> 3929.2009 | I38: =H38*(1+I30) -> 4389.5328 | J38: =I38*(1+J30) -> 4819.8608 | K38: =J38*(1+K30) -> 5214.8789
C39: Property, plant & equipment | E39: =9000+7500+1000 -> 17500 | F39: =9500+8000+7500+800 -> 25800 | G39: =G75 -> 35959.602 | H39: =H75 -> 48399.731 | I39: =I75 -> 63637.523 | J39: =J75 -> 82308.527 | K39: =K75 -> 105194.09
C40: Total assets | E40: =SUM(E36:E39) -> 29500 | F40: =SUM(F36:F39) -> 43700 | G40: =SUM(G36:G39) -> 122446.35 | H40: =SUM(H36:H39) -> 228844.99 | I40: =SUM(I36:I39) -> 389368.78 | J40: =SUM(J36:J39) -> 617207.42 | K40: =SUM(K36:K39) -> 928578.78
C42: Accounts payable | E42: 1300 | F42: 1500 | G42: =F42*(1+G30) -> 1723.5299 | H42: =G42*(1+H30) -> 1964.6004 | I42: =H42*(1+I30) -> 2194.7664 | J42: =I42*(1+J30) -> 2409.9304 | K42: =J42*(1+K30) -> 2607.4395
C43: Other current liabilities | E43: =1900 -> 1900 | F43: 2300 | G43: =F43*(G27+1) -> 2815.3113 | H43: =G43*(H27+1) -> 3447.2647 | I43: =H43*(I27+1) -> 4222.5207 | J43: =I43*(J27+1) -> 5173.8927 | K43: =J43*(K27+1) -> 6341.7817
C44: Long term debt (includes current portion) | E44: 8000 | F44: 3000 | G44: =F44 -> 3000 | H44: =G44 -> 3000 | I44: =H44 -> 3000 | J44: =I44 -> 3000 | K44: =J44 -> 3000
C45: Total liabilities | E45: =SUM(E42:E44) -> 11200 | F45: =SUM(F42:F44) -> 6800 | G45: =SUM(G42:G44) -> 7538.8411 | H45: =SUM(H42:H44) -> 8411.8651 | I45: =SUM(I42:I44) -> 9417.2871 | J45: =SUM(J42:J44) -> 10583.823 | K45: =SUM(K42:K44) -> 11949.221
C47: Initial Investment | E47: 15000 | F47: =15000 -> 15000 | G47: =F47 -> 15000 | H47: =G47 -> 15000 | I47: =H47 -> 15000 | J47: =I47 -> 15000 | K47: =J47 -> 15000
C48: Retained earnings | E48: 3300 | F48: =21900 -> 21900 | G48: =G80 -> 99907.509 | H48: =H80 -> 205433.13 | I48: =I80 -> 364951.5 | J48: =J80 -> 591623.6 | K48: =K80 -> 901629.56
C49: Total equity | E49: =SUM(E47:E48) -> 18300 | F49: =SUM(F47:F48) -> 36900 | G49: =SUM(G47:G48) -> 114907.51 | H49: =SUM(H47:H48) -> 220433.13 | I49: =SUM(I47:I48) -> 379951.5 | J49: =SUM(J47:J48) -> 606623.6 | K49: =SUM(K47:K48) -> 916629.56
...

Sheet Scenario
C2: Scenario Analysis for X | J2: Jourdan Partners
C3: ='3 Statement'!C3 -> in CHF
C6: Fiscal year | F6: ='3 Statement'!F9+1 -> 2027 | G6: =F6+1 -> 2028 | H6: =G6+1 -> 2029 | I6: =H6+1 -> 2030 | J6: =I6+1 -> 2031
C7: Fiscal year end date | F7: =EOMONTH('3 Statement'!F10,12) -> 46660 | G7: =EOMONTH(F7,12) -> 47026 | H7: =EOMONTH(G7,12) -> 47391 | I7: =EOMONTH(H7,12) -> 47756 | J7: =EOMONTH(I7,12) -> 48121
C9: Active case | D9: Base case
C10: Customer Revenue | F10: =INDEX(F16:F18, MATCH($D$9,$C$16:$C$18, 0)) -> 226706 | G10: =INDEX(G16:G18, MATCH($D$9,$C$16:$C$18, 0)) -> 277594.74 | H10: =INDEX(H16:H18, MATCH($D$9,$C$16:$C$18, 0)) -> 340023.07 | I10: =INDEX(I16:I18, MATCH($D$9,$C$16:$C$18, 0)) -> 416633.33 | J10: =INDEX(J16:J18, MATCH($D$9,$C$16:$C$18, 0)) -> 510678.86
C11: SG&A | F11: =INDEX(F21:F23, MATCH($D$9,$C$16:$C$18, 0)) -> -33783.708 | G11: =INDEX(G21:G23, MATCH($D$9,$C$16:$C$18, 0)) -> -38827.247 | H11: =INDEX(H21:H23, MATCH($D$9,$C$16:$C$18, 0)) -> -39835.955 | I11: =INDEX(I21:I23, MATCH($D$9,$C$16:$C$18, 0)) -> -40844.663 | J11: =INDEX(J21:J23, MATCH($D$9,$C$16:$C$18, 0)) -> -41853.371
C12: =C25 -> Research & Development | F12: =INDEX(F26:F28, MATCH($D$9,$C$16:$C$18, 0)) -> -7112.3596 | G12: =INDEX(G26:G28, MATCH($D$9,$C$16:$C$18, 0)) -> -8174.1573 | H12: =INDEX(H26:H28, MATCH($D$9,$C$16:$C$18, 0)) -> -8386.5169 | I12: =INDEX(I26:I28, MATCH($D$9,$C$16:$C$18, 0)) -> -8598.8764 | J12: =INDEX(J26:J28, MATCH($D$9,$C$16:$C$18, 0)) -> -8811.236
C13: Cost of sales | F13: =INDEX(F31:F33, MATCH($D$9,$C$16:$C$18, 0)) -> -101351.12 | G13: =INDEX(G31:G33, MATCH($D$9,$C$16:$C$18, 0)) -> -116481.74 | H13: =INDEX(H31:H33, MATCH($D$9,$C$16:$C$18, 0)) -> -119507.87 | I13: =INDEX(I31:I33, MATCH($D$9,$C$16:$C$18, 0)) -> -122533.99 | J13: =INDEX(J31:J33, MATCH($D$9,$C$16:$C$18, 0)) -> -125560.11
C15: Customer Revenue
C16: Best case | E16: 0.05 | F16: =F17+$E$16*F17 -> 238041.3 | G16: =G17+$E$16*G17 -> 291474.47 | H16: =H17+$E$16*H17 -> 357024.22 | I16: =I17+$E$16*I17 -> 437465 | J16: =J17+$E$16*J17 -> 536212.81
C17: Base case | E17: NM | F17: ='Rev build'!E27 -> 226706 | G17: ='Rev build'!F27 -> 277594.74 | H17: ='Rev build'!G27 -> 340023.07 | I17: ='Rev build'!H27 -> 416633.33 | J17: ='Rev build'!I27 -> 510678.86
C18: Weak case | E18: -0.05 | F18: =F17*$E$18+F17 -> 215370.7 | G18: =G17*$E$18+G17 -> 263715 | H18: =H17*$E$18+H17 -> 323021.92 | I18: =I17*$E$18+I17 -> 395801.67 | J18: =J17*$E$18+J17 -> 485144.92
C20: SG&A
C21: Best case | E21: -0.1 | F21: =(1+$E$21)*F22 -> -30405.337 | G21: =(1+$E$21)*G22 -> -34944.522 | H21: =(1+$E$21)*H22 -> -35852.36 | I21: =(1+$E$21)*I22 -> -36760.197 | J21: =(1+$E$21)*J22 -> -37668.034
C22: Base case | E22: NM | F22: -33783.708 | G22: -38827.247 | H22: -39835.955 | I22: -40844.663 | J22: -41853.371
C23: Weak case | E23: 0.1 | F23: =($E$23+1)*F22 -> -37162.079 | G23: =($E$23+1)*G22 -> -42709.972 | H23: =($E$23+1)*H22 -> -43819.551 | I23: =($E$23+1)*I22 -> -44929.129 | J23: =($E$23+1)*J22 -> -46038.708
C25: Research & Development
C26: Best case | E26: -0.15 | F26: =F27+$E$26*F27 -> -6045.5056 | G26: =G27+$E$26*G27 -> -6948.0337 | H26: =H27+$E$26*H27 -> -7128.5393 | I26: =I27+$E$26*I27 -> -7309.0449 | J26: =J27+$E$26*J27 -> -7489.5506
C27: Base case | E27: NM | F27: -7112.3596 | G27: -8174.1573 | H27: -8386.5169 | I27: -8598.8764 | J27: -8811.236
C28: Weak case | E28: =15% -> 0.15 | F28: =F27*E28+F27 -> -8179.2135 | G28: =F28 -> -8179.2135 | H28: =G28 -> -8179.2135 | I28: =H28 -> -8179.2135 | J28: =I28 -> -8179.2135
C30: Cost of sales
C31: Best case | E31: =-25% -> -0.25 | F31: =(1+$E$31)*F32 -> -76013.343 | G31: =(1+$E$31)*G32 -> -87361.306 | H31: =(1+$E$31)*H32 -> -89630.899 | I31: =(1+$E$31)*I32 -> -91900.492 | J31: =(1+$E$31)*J32 -> -94170.084
C32: Base case | E32: NM | F32: -101351.12 | G32: -116481.74 | H32: -119507.87 | I32: -122533.99 | J32: -125560.11
C33: Weak case | E33: 0.25 | F33: =(1+$E$33)*F32 -> -126688.9 | G33: =(1+$E$33)*G32 -> -145602.18 | H33: =(1+$E$33)*H32 -> -149384.83 | I33: =(1+$E$33)*I32 -> -153167.49 | J33: =(1+$E$33)*J32 -> -156950.14
J35: Jourdan Partners

Sheet Rev build
C2: Revenue Build for X | I2: Jourdan Partners
C3: =Scenario!C3 -> in CHF
C5: Service | D5: Price in CHF
C6: A | D6: 65
C7: B | D7: 120
C8: C | D8: 30
C9: D | D9: 100
C12: Fiscal year | D12: ='3 Statement'!E9+1 -> 2026 | E12: ='3 Statement'!F9+1 -> 2027 | F12: =E12+1 -> 2028 | G12: =F12+1 -> 2029 | H12: =G12+1 -> 2030 | I12: =H12+1 -> 2031
C13: Fiscal year end date | D13: =EOMONTH('3 Statement'!E10,12) -> 46295 | E13: =EOMONTH('3 Statement'!F10,12) -> 46660 | F13: =EOMONTH(E13,12) -> 47026 | G13: =EOMONTH(F13,12) -> 47391 | H13: =EOMONTH(G13,12) -> 47756 | I13: =EOMONTH(H13,12) -> 48121
C15: Number of services
C16: =C6 -> A | D16: 554 | E16: =D16*(1+$D44) -> 675.88 | F16: =E16*(1+$D44) -> 824.5736 | G16: =F16*(1+$D44) -> 1005.9798 | H16: =G16*(1+$D44) -> 1227.2953 | I16: =H16*(1+$D44) -> 1497.3003 | L16: Assumption: 20% more services per year
C17: =C7 -> B | D17: 1033 | E17: =D17*(1+$D45) -> 1270.59 | F17: =E17*(1+$D45) -> 1562.8257 | G17: =F17*(1+$D45) -> 1922.2756 | H17: =G17*(1+$D45) -> 2364.399 | I17: =H17*(1+$D45) -> 2908.2108 | L17: Assumption: 23% more services per year
C18: =C8 -> C | D18: 198 | E18: =D18*(1+$D46) -> 257.4 | F18: =E18*(1+$D46) -> 334.62 | G18: =F18*(1+$D46) -> 435.006 | H18: =G18*(1+$D46) -> 565.5078 | I18: =H18*(1+$D46) -> 735.16014 | L18: Assumption: 30% more services per year
C19: =C9 -> D | D19: 193 | E19: =D19*(1+$D47) -> 225.81 | F19: =E19*(1+$D47) -> 264.1977 | G19: =F19*(1+$D47) -> 309.11131 | H19: =G19*(1+$D47) -> 361.66023 | I19: =H19*(1+$D47) -> 423.14247 | L19: Assumption: 17% more services per year
C20: Total | D20: =SUM(D16:D19) -> 1978 | E20: =SUM(E16:E19) -> 2429.68 | F20: =SUM(F16:F19) -> 2986.217 | G20: =SUM(G16:G19) -> 3672.3727 | H20: =SUM(H16:H19) -> 4518.8624 | I20: =SUM(I16:I19) -> 5563.8137
C22: Revenue in CHF by service
C23: =C6 -> A | D23: =D16*$D$6 -> 36010 | E23: =E16*$D$6 -> 43932.2 | F23: =F16*$D$6 -> 53597.284 | G23: =G16*$D$6 -> 65388.686 | H23: =H16*$D$6 -> 79774.198 | I23: =I16*$D$6 -> 97324.521
C24: =C7 -> B | D24: =D17*$D$7 -> 123960 | E24: =E17*$D$7 -> 152470.8 | F24: =F17*$D$7 -> 187539.08 | G24: =G17*$D$7 -> 230673.07 | H24: =H17*$D$7 -> 283727.88 | I24: =I17*$D$7 -> 348985.29
C25: =C8 -> C | D25: =D18*$D$8 -> 5940 | E25: =E18*$D$8 -> 7722 | F25: =F18*$D$8 -> 10038.6 | G25: =G18*$D$8 -> 13050.18 | H25: =H18*$D$8 -> 16965.234 | I25: =I18*$D$8 -> 22054.804
C26: =C9 -> D | D26: =D19*$D$9 -> 19300 | E26: =E19*$D$9 -> 22581 | F26: =F19*$D$9 -> 26419.77 | G26: =G19*$D$9 -> 30911.131 | H26: =H19*$D$9 -> 36166.023 | I26: =I19*$D$9 -> 42314.247
C27: Total revenue | D27: =SUM(D23:D26) -> 185210 | E27: =SUM(E23:E26) -> 226706 | F27: =SUM(F23:F26) -> 277594.74 | G27: =SUM(G23:G26) -> 340023.07 | H27: =SUM(H23:H26) -> 416633.33 | I27: =SUM(I23:I26) -> 510678.86
C29: Distribution of revenue by service
C30: =C23 -> A | D30: =D23/D$27 -> 0.19442795 | E30: =E23/E$27 -> 0.1937849 | F30: =F23/F$27 -> 0.19307745 | G30: =G23/G$27 -> 0.19230662 | H30: =H23/H$27 -> 0.19147339 | I30: =I23/I$27 -> 0.19057871
C31: =C24 -> B | D31: =D24/D$27 -> 0.66929431 | E31: =E24/E$27 -> 0.67254859 | F31: =F24/F$27 -> 0.67558588 | G31: =G24/G$27 -> 0.67840418 | H31: =H24/H$27 -> 0.68100139 | I31: =I24/I$27 -> 0.68337524
C32: =C25 -> C | D32: =D25/D$27 -> 0.032071702 | E32: =E25/E$27 -> 0.034061736 | F32: =F25/F$27 -> 0.036162789 | G32: =G25/G$27 -> 0.038380278 | H32: =H25/H$27 -> 0.040719819 | I32: =I25/I$27 -> 0.043187227
C33: =C26 -> D | D33: =D26/D$27 -> 0.10420604 | E33: =E26/E$27 -> 0.099604774 | F33: =F26/F$27 -> 0.095173886 | G33: =G26/G$27 -> 0.090908922 | H33: =H26/H$27 -> 0.0868054 | I33: =I26/I$27 -> 0.082858818
C35: Customer data
C36: Average service number per customer | D36: =D20/D38 -> 0.97390448 | E36: =E20/E38 -> 1.0875431 | F36: =F20/F38 -> 1.3366532 | G36: =G20/G38 -> 1.6437817 | H36: =H20/H38 -> 2.0226769 | I36: =I20/I38 -> 2.490405
C37: Average revenue by customer | D37: =D27/D38 -> 91.191531 | E37: =E27/E38 -> 101.47531 | F37: =F27/F38 -> 124.2535 | G37: =G27/G38 -> 152.19689 | H37: =H27/H38 -> 186.48822 | I37: =I27/I38 -> 228.58371
C38: Total Customers | D38: 2031 | E38: =D38*(1+D43) -> 2234.1 | F38: =E38*(1+E43) -> 2234.1 | G38: =F38*(1+F43) -> 2234.1 | H38: =G38*(1+G43) -> 2234.1 | I38: =H38*(1+H43) -> 2234.1 | L38: Assumption: Increase by 10% every year
C40: Total revenue | E40: =E38*E37 -> 226706 | F40: =F38*F37 -> 277594.74 | G40: =G38*G37 -> 340023.07 | H40: =H38*H37 -> 416633.33 | I40: =I38*I37 -> 510678.86
C42: Key assumptions
C43: Customer increase per year | D43: 0.1
C44: Increase per year Service A | D44: 0.22
C45: Increase per year Service B | D45: 0.23
C46: Increase per year Service C | D46: 0.3
C47: Increase per year Service D | D47: 0.17
I49: Jourdan Partners

Sheet DCF
C3: Discounted Cash Flow Valuation | J3: Jourdan Partners
C4: ='3 Statement'!C3 -> in CHF
C6: Discount rate (WACC) | E6: 0.1
C7: Stub period is manually adjustable for FCF calculations | E7: 0.73
C9: Unlevered Free Cash Flows
C10: Fiscal year | E10: ='3 Statement'!F9 -> 2026 | F10: ='3 Statement'!G9 -> 2027 | G10: ='3 Statement'!H9 -> 2028 | H10: ='3 Statement'!I9 -> 2029 | I10: ='3 Statement'!J9 -> 2030 | J10: ='3 Statement'!K9 -> 2031
C11: Fiscal year end date | E11: ='3 Statement'!F10 -> 46273 | F11: ='3 Statement'!G10 -> 46660 | G11: ='3 Statement'!H10 -> 47026 | H11: ='3 Statement'!I10 -> 47391 | I11: ='3 Statement'!J10 -> 47756 | J11: ='3 Statement'!K10 -> 48121
C13: Revenue | E13: ='3 Statement'!F12 -> 185210 | F13: ='3 Statement'!G12 -> 226706 | G13: ='3 Statement'!H12 -> 277594.74 | H13: ='3 Statement'!I12 -> 340023.07 | I13: ='3 Statement'!J12 -> 416633.33 | J13: ='3 Statement'!K12 -> 510678.86
C14: % growth | E14: ='3 Statement'!F27 -> 0.27292096 | F14: ='3 Statement'!G27 -> 0.22404838 | G14: ='3 Statement'!H27 -> 0.22447019 | H14: ='3 Statement'!I27 -> 0.22489019 | I14: ='3 Statement'!J27 -> 0.22530902 | J14: ='3 Statement'!K27 -> 0.22572733
C15: EBITDA | E15: ='3 Statement'!F24 -> 69210 | F15: ='3 Statement'!G24 -> 89355.002 | G15: ='3 Statement'!H24 -> 120106.83 | H15: ='3 Statement'!I24 -> 179636.25 | I15: ='3 Statement'!J24 -> 253653.88 | J15: ='3 Statement'!K24 -> 345483.33
C16: % margin | E16: ='3 Statement'!F28 -> 0.53836186 | F16: ='3 Statement'!G28 -> 0.55294027 | G16: ='3 Statement'!H28 -> 0.58038923 | H16: ='3 Statement'!I28 -> 0.64853013 | I16: ='3 Statement'!J28 -> 0.7058949 | J16: ='3 Statement'!K28 -> 0.75413098
C17: EBIT | E17: ='3 Statement'!F17 -> 65210 | F17: ='3 Statement'!G17 -> 84458.809 | G17: ='3 Statement'!H17 -> 114111.59 | H17: ='3 Statement'!I17 -> 172292.73 | I17: ='3 Statement'!J17 -> 244655.81 | J17: ='3 Statement'!K17 -> 334454.15
C18: % margin | E18: =E17/E13 -> 0.35208682 | F18: =F17/F13 -> 0.37254774 | G18: =G17/G13 -> 0.4110726 | H18: =H17/H13 -> 0.50670895 | I18: =I17/I13 -> 0.58722091 | J18: =J17/J13 -> 0.65492067
C20: Tax on EBIT | E20: =E17*'3 Statement'!F31 -> 4694.3956 | F20: =F17*'3 Statement'!G31 -> 6080.096 | G20: =G17*'3 Statement'!H31 -> 8214.7669 | H20: =H17*'3 Statement'!I31 -> 12403.163 | I20: =I17*'3 Statement'!J31 -> 17612.5 | J20: =J17*'3 Statement'!K31 -> 24076.983
C21: Tax rate | E21: ='3 Statement'!F31 -> 0.071988891 | F21: ='3 Statement'!G31 -> 0.071988891 | G21: ='3 Statement'!H31 -> 0.071988891 | H21: ='3 Statement'!I31 -> 0.071988891 | I21: ='3 Statement'!J31 -> 0.071988891 | J21: ='3 Statement'!K31 -> 0.071988891
C22: NOPAT | E22: =E17-E20 -> 60515.604 | F22: =F17-F20 -> 78378.713 | G22: =G17-G20 -> 105896.83 | H22: =H17-H20 -> 159889.57 | I22: =I17-I20 -> 227043.31 | J22: =J17-J20 -> 310377.16
C24: Depreciation & amortization | F24: ='3 Statement'!G23 -> 4896.1935 | G24: ='3 Statement'!H23 -> 5995.243 | H24: ='3 Statement'!I23 -> 7343.5143 | I24: ='3 Statement'!J23 -> 8998.0743 | J24: ='3 Statement'!K23 -> 11029.186
C25: Changes in net working capital | F25: ='3 Statement'!G59+'3 Statement'!G60*-1 -> -1387.5444 | G25: ='3 Statement'!H59+'3 Statement'!H60*-1 -> -1602.4513 | H25: ='3 Statement'!I59+'3 Statement'!I60*-1 -> -1769.1149 | I25: ='3 Statement'!J59+'3 Statement'!J60*-1 -> -1969.14 | J25: ='3 Statement'!K59+'3 Statement'!K60*-1 -> -2217.4162
C26: Capital expenditures | F26: ='3 Statement'!G73 -> 15055.795 | G26: ='3 Statement'!H73 -> 18435.372 | H26: ='3 Statement'!I73 -> 22581.306 | I26: ='3 Statement'!J73 -> 27669.078 | J26: ='3 Statement'!K73 -> 33914.746
C27: as % of revenue | F27: =F26/F13 -> 0.066411101 | G27: =G26/G13 -> 0.066411101 | H27: =H26/H13 -> 0.066411101 | I27: =I26/I13 -> 0.066411101 | J27: =J26/J13 -> 0.066411101
C29: Unlevered free cash flows (UFCF) | E29: =E22+E24+E25-E26 -> 60515.604 | F29: =F22+F24+F25-F26 -> 66831.567 | G29: =G22+G24+G25-G26 -> 91854.245 | H29: =H22+H24+H25-H26 -> 142882.66 | I29: =I22+I24+I25-I26 -> 206403.16 | J29: =J22+J24+J25-J26 -> 285274.19
C31: Present value of UFCF
E32: Val Date | F32: Yr 1 - Stub | G32: Year 2 | H32: Year 3 | I32: Year 4 | J32: Year 5
C33: Date for discounting cash flows | E33: =E11 -> 46273 | F33: =F11 -> 46660 | G33: =G11 -> 47026 | H33: =H11 -> 47391 | I33: =I11 -> 47756 | J33: =J11 -> 48121
C34: Unlevered free cash flows (UFCF) stub adjusted | D34: =E7 -> 0.73 | F34: =F29*D34 -> 48787.044 | G34: =G29 -> 91854.245 | H34: =H29 -> 142882.66 | I34: =I29 -> 206403.16 | J34: =J29 -> 285274.19
C35: Present value of unlevered free cash flows | F35: =F34/(1+$E$6)^((F33-$E$33)/365) -> 44097.799 | G35: =G34/(1+$E$6)^((G33-$E$33)/365) -> 75458.046 | H35: =H34/(1+$E$6)^((H33-$E$33)/365) -> 106707.07 | I35: =I34/(1+$E$6)^((I33-$E$33)/365) -> 140131.99 | J35: =J34/(1+$E$6)^((J33-$E$33)/365) -> 176072.18
C37: Terminal value - growth in perpetuity approach
C38: Long term growth rate | D38: 0.03
C39: =YEAR(J11)&" FCF x (1+g)" -> 2031 FCF x (1+g) | D39: =J29*(1+D38) -> 293832.41
C40: ="Terminal value in "&YEAR(J11) -> Terminal value in 2031 | D40: =D39/(E6-D38) -> 4197605.9
C41: Present value of terminal value | D41: =D40/((1+E6)^((J33-E33)/365)) -> 2590776.4
C42: PV of forecast-period cash flows | D42: =SUM(F35:J35) -> 542467.09
C43: Total enterprise value (TEV) | D43: =D41+D42 -> 3133243.5
J45: Jourdan Partners
